BEGIN:VCALENDAR
VERSION:2.0
PRODID:-//dhtmlXScheduler//NONSGML v2.2//EN
X-WR-CALNAME:Wydarzenia
BEGIN:VEVENT
DTSTART:20241121T000000
DTEND:20241122T000000
UID:1
SUMMARY:Od Hezjoda do Parandowskiego: transmisja mitu i mitografia w kulturze Europy. W 100. rocznicę wydania Mitologii J. Parandowskiego
END:VEVENT
END:VCALENDAR